BEGIN:VCALENDAR
VERSION:2.0
PRODID:-//SVP Bezirk Dietikon //NONSGML Events //EN
CALSCALE:GREGORIAN
X-WR-CALNAME:SVP Bezirk Dietikon
BEGIN:VEVENT
CREATED:20260423T211316Z
UID:2274
DTEND:20260501T160000
DTSTART:20260501T113000
DTSTAMP:20260424T143525Z
LOCATION:im Basi\, Dietikon
DESCRIPTION:Einladung zum Grill Plausch bei Kurt + Elsbeth Bräm im Basi, Dietikon
SUMMARY:Grill Plausch mit Benjamin Giezendanner
ORGANIZER:SVP Dietikon
URL;VALUE=URI:https://www.svp-bezirk-dietikon.ch/termine/grill-plausch-mit-benjamin-giezendanner/
TRANSP:OPAQUE
END:VEVENT
END:VCALENDAR
